BEGIN:VCALENDAR
VERSION:2.0
PRODID:-//Pebble Brook School - ECPv6.15.20//NONSGML v1.0//EN
CALSCALE:GREGORIAN
METHOD:PUBLISH
X-WR-CALNAME:Pebble Brook School
X-ORIGINAL-URL:https://pebblebrookschool.org.uk
X-WR-CALDESC:Events for Pebble Brook School
REFRESH-INTERVAL;VALUE=DURATION:PT1H
X-Robots-Tag:noindex
X-PUBLISHED-TTL:PT1H
BEGIN:VTIMEZONE
TZID:Europe/London
BEGIN:DAYLIGHT
TZOFFSETFROM:+0000
TZOFFSETTO:+0100
TZNAME:BST
DTSTART:20230326T010000
END:DAYLIGHT
BEGIN:STANDARD
TZOFFSETFROM:+0100
TZOFFSETTO:+0000
TZNAME:GMT
DTSTART:20231029T010000
END:STANDARD
BEGIN:DAYLIGHT
TZOFFSETFROM:+0000
TZOFFSETTO:+0100
TZNAME:BST
DTSTART:20240331T010000
END:DAYLIGHT
BEGIN:STANDARD
TZOFFSETFROM:+0100
TZOFFSETTO:+0000
TZNAME:GMT
DTSTART:20241027T010000
END:STANDARD
BEGIN:DAYLIGHT
TZOFFSETFROM:+0000
TZOFFSETTO:+0100
TZNAME:BST
DTSTART:20250330T010000
END:DAYLIGHT
BEGIN:STANDARD
TZOFFSETFROM:+0100
TZOFFSETTO:+0000
TZNAME:GMT
DTSTART:20251026T010000
END:STANDARD
BEGIN:DAYLIGHT
TZOFFSETFROM:+0000
TZOFFSETTO:+0100
TZNAME:BST
DTSTART:20260329T010000
END:DAYLIGHT
BEGIN:STANDARD
TZOFFSETFROM:+0100
TZOFFSETTO:+0000
TZNAME:GMT
DTSTART:20261025T010000
END:STANDARD
END:VTIMEZONE
BEGIN:VEVENT
DTSTART;VALUE=DATE:20250618
DTEND;VALUE=DATE:20250620
DTSTAMP:20260424T113624
CREATED:20250428T152607Z
LAST-MODIFIED:20250428T152607Z
UID:51169-1750204800-1750377599@pebblebrookschool.org.uk
SUMMARY:Duke of Edinburgh expedition
DESCRIPTION:
URL:https://pebblebrookschool.org.uk/event/duke-of-edinburgh-expedition/
END:VEVENT
BEGIN:VEVENT
DTSTART;TZID=Europe/London:20250614T123000
DTEND;TZID=Europe/London:20250614T143000
DTSTAMP:20260424T113624
CREATED:20250606T121556Z
LAST-MODIFIED:20250606T121556Z
UID:51175-1749904200-1749911400@pebblebrookschool.org.uk
SUMMARY:Car Boot Sale
DESCRIPTION:Car Boot Sale Buyers entry £1 (Under 5’s FREE) Cash only. \nOpen from 12:30 – 14:30 \nOff site parking for buyers. No dogs allowed Smoking/Vaping not permitted on site.
URL:https://pebblebrookschool.org.uk/event/car-boot-sale/
LOCATION:Pebble Brook School\, Churchill Avenue\, Aylesbury\, Buckinghamshire\, HP21 8LZ\, United Kingdom
END:VEVENT
BEGIN:VEVENT
DTSTART;VALUE=DATE:20250613
DTEND;VALUE=DATE:20250614
DTSTAMP:20260424T113624
CREATED:20250114T133413Z
LAST-MODIFIED:20250114T134144Z
UID:51069-1749772800-1749859199@pebblebrookschool.org.uk
SUMMARY:Last day for Year 11 - Leavers Assembly at 11am
DESCRIPTION:
URL:https://pebblebrookschool.org.uk/event/year-11-leave-date/
END:VEVENT
BEGIN:VEVENT
DTSTART;VALUE=DATE:20250609
DTEND;VALUE=DATE:20250614
DTSTAMP:20260424T113624
CREATED:20250114T133503Z
LAST-MODIFIED:20250114T133503Z
UID:51071-1749427200-1749859199@pebblebrookschool.org.uk
SUMMARY:Sixth Form Induction Week
DESCRIPTION:
URL:https://pebblebrookschool.org.uk/event/sixth-form-induction-week/
END:VEVENT
BEGIN:VEVENT
DTSTART;VALUE=DATE:20250609
DTEND;VALUE=DATE:20250614
DTSTAMP:20260424T113624
CREATED:20250114T133202Z
LAST-MODIFIED:20250114T133202Z
UID:51067-1749427200-1749859199@pebblebrookschool.org.uk
SUMMARY:Work experience reflection week
DESCRIPTION:
URL:https://pebblebrookschool.org.uk/event/work-experience-reflection-week/
END:VEVENT
BEGIN:VEVENT
DTSTART;VALUE=DATE:20250602
DTEND;VALUE=DATE:20250607
DTSTAMP:20260424T113624
CREATED:20250114T133045Z
LAST-MODIFIED:20250114T133045Z
UID:51065-1748822400-1749254399@pebblebrookschool.org.uk
SUMMARY:Year 11 Work Experience
DESCRIPTION:
URL:https://pebblebrookschool.org.uk/event/year-11-work-experience-3/
END:VEVENT
BEGIN:VEVENT
DTSTART;VALUE=DATE:20250526
DTEND;VALUE=DATE:20250531
DTSTAMP:20260424T113624
CREATED:20241213T135327Z
LAST-MODIFIED:20241213T135327Z
UID:51052-1748217600-1748649599@pebblebrookschool.org.uk
SUMMARY:Half Term - School Closed
DESCRIPTION:
URL:https://pebblebrookschool.org.uk/event/half-term-school-closed-5/
END:VEVENT
BEGIN:VEVENT
DTSTART;TZID=Europe/London:20250521T160000
DTEND;TZID=Europe/London:20250521T170000
DTSTAMP:20260424T113624
CREATED:20250325T163850Z
LAST-MODIFIED:20250325T163850Z
UID:51158-1747843200-1747846800@pebblebrookschool.org.uk
SUMMARY:Parents & Students FED Transition meeting
DESCRIPTION:
URL:https://pebblebrookschool.org.uk/event/parents-students-fed-transition-meeting/
END:VEVENT
BEGIN:VEVENT
DTSTART;VALUE=DATE:20250512
DTEND;VALUE=DATE:20250513
DTSTAMP:20260424T113624
CREATED:20250325T164009Z
LAST-MODIFIED:20250325T164009Z
UID:51162-1747008000-1747094399@pebblebrookschool.org.uk
SUMMARY:Maths Exams
DESCRIPTION:
URL:https://pebblebrookschool.org.uk/event/maths-exams-2/
END:VEVENT
BEGIN:VEVENT
DTSTART;VALUE=DATE:20250506
DTEND;VALUE=DATE:20250507
DTSTAMP:20260424T113624
CREATED:20250325T163940Z
LAST-MODIFIED:20250325T163940Z
UID:51160-1746489600-1746575999@pebblebrookschool.org.uk
SUMMARY:Maths Exams
DESCRIPTION:
URL:https://pebblebrookschool.org.uk/event/maths-exams/
END:VEVENT
BEGIN:VEVENT
DTSTART;VALUE=DATE:20250505
DTEND;VALUE=DATE:20250506
DTSTAMP:20260424T113624
CREATED:20241213T135244Z
LAST-MODIFIED:20241213T135244Z
UID:51050-1746403200-1746489599@pebblebrookschool.org.uk
SUMMARY:Bank Holiday - School Closed
DESCRIPTION:
URL:https://pebblebrookschool.org.uk/event/bank-holiday-school-closed-4/
END:VEVENT
BEGIN:VEVENT
DTSTART;VALUE=DATE:20250428
DTEND;VALUE=DATE:20250503
DTSTAMP:20260424T113624
CREATED:20250114T134721Z
LAST-MODIFIED:20250114T135024Z
UID:51081-1745798400-1746230399@pebblebrookschool.org.uk
SUMMARY:Hawes Residential Trip - Year 7\, 8 & 9
DESCRIPTION:
URL:https://pebblebrookschool.org.uk/event/hawes-residential-trip-year-7-8/
END:VEVENT
BEGIN:VEVENT
DTSTART;VALUE=DATE:20250422
DTEND;VALUE=DATE:20250423
DTSTAMP:20260424T113624
CREATED:20241213T135147Z
LAST-MODIFIED:20241213T135147Z
UID:51048-1745280000-1745366399@pebblebrookschool.org.uk
SUMMARY:Inset Day - School Closed
DESCRIPTION:
URL:https://pebblebrookschool.org.uk/event/inset-day-school-closed-4/
END:VEVENT
BEGIN:VEVENT
DTSTART;VALUE=DATE:20250421
DTEND;VALUE=DATE:20250422
DTSTAMP:20260424T113624
CREATED:20241213T135107Z
LAST-MODIFIED:20241213T135107Z
UID:51046-1745193600-1745279999@pebblebrookschool.org.uk
SUMMARY:Bank Holiday - School Closed
DESCRIPTION:
URL:https://pebblebrookschool.org.uk/event/bank-holiday-school-closed-3/
END:VEVENT
BEGIN:VEVENT
DTSTART;VALUE=DATE:20250407
DTEND;VALUE=DATE:20250419
DTSTAMP:20260424T113624
CREATED:20241213T135021Z
LAST-MODIFIED:20241213T135021Z
UID:51044-1743984000-1745020799@pebblebrookschool.org.uk
SUMMARY:Half Term - School Closed
DESCRIPTION:
URL:https://pebblebrookschool.org.uk/event/half-term-school-closed-4/
END:VEVENT
BEGIN:VEVENT
DTSTART;TZID=Europe/London:20250404T080000
DTEND;TZID=Europe/London:20250404T130000
DTSTAMP:20260424T113624
CREATED:20241213T135934Z
LAST-MODIFIED:20250325T163038Z
UID:51060-1743753600-1743771600@pebblebrookschool.org.uk
SUMMARY:School Closes at 1:15pm
DESCRIPTION:
URL:https://pebblebrookschool.org.uk/event/school-closes-at-1pm/
END:VEVENT
BEGIN:VEVENT
DTSTART;TZID=Europe/London:20250401T131500
DTEND;TZID=Europe/London:20250401T180000
DTSTAMP:20260424T113624
CREATED:20250325T162920Z
LAST-MODIFIED:20250325T162920Z
UID:51147-1743513300-1743530400@pebblebrookschool.org.uk
SUMMARY:Maths & English Parents evening
DESCRIPTION:
URL:https://pebblebrookschool.org.uk/event/maths-english-parents-evening/
END:VEVENT
BEGIN:VEVENT
DTSTART;VALUE=DATE:20250324
DTEND;VALUE=DATE:20250329
DTSTAMP:20260424T113624
CREATED:20250325T162814Z
LAST-MODIFIED:20250325T162814Z
UID:51145-1742774400-1743206399@pebblebrookschool.org.uk
SUMMARY:Year 10 Work experience
DESCRIPTION:
URL:https://pebblebrookschool.org.uk/event/year-10-work-experience/
END:VEVENT
BEGIN:VEVENT
DTSTART;VALUE=DATE:20250226
DTEND;VALUE=DATE:20250301
DTSTAMP:20260424T113624
CREATED:20250114T134902Z
LAST-MODIFIED:20250114T134952Z
UID:51083-1740528000-1740787199@pebblebrookschool.org.uk
SUMMARY:Coldecotte Xperience - Residential - Key Stage 3
DESCRIPTION:
URL:https://pebblebrookschool.org.uk/event/coldecotte-xperience-residential/
END:VEVENT
BEGIN:VEVENT
DTSTART;VALUE=DATE:20250217
DTEND;VALUE=DATE:20250222
DTSTAMP:20260424T113624
CREATED:20241213T134724Z
LAST-MODIFIED:20241213T134840Z
UID:51041-1739750400-1740182399@pebblebrookschool.org.uk
SUMMARY:Half Term - School Closed
DESCRIPTION:
URL:https://pebblebrookschool.org.uk/event/half-term-5/
END:VEVENT
BEGIN:VEVENT
DTSTART;VALUE=DATE:20250106
DTEND;VALUE=DATE:20250107
DTSTAMP:20260424T113624
CREATED:20241114T113510Z
LAST-MODIFIED:20241114T113510Z
UID:51027-1736121600-1736207999@pebblebrookschool.org.uk
SUMMARY:School Opens
DESCRIPTION:
URL:https://pebblebrookschool.org.uk/event/school-opens/
END:VEVENT
BEGIN:VEVENT
DTSTART;TZID=Europe/London:20241220T130000
DTEND;TZID=Europe/London:20241220T130000
DTSTAMP:20260424T113624
CREATED:20241114T113202Z
LAST-MODIFIED:20241114T113202Z
UID:51025-1734699600-1734699600@pebblebrookschool.org.uk
SUMMARY:School Closes for Christmas Holidays
DESCRIPTION:
URL:https://pebblebrookschool.org.uk/event/school-closes-for-christmas-holidays/
END:VEVENT
BEGIN:VEVENT
DTSTART;VALUE=DATE:20241219
DTEND;VALUE=DATE:20241220
DTSTAMP:20260424T113624
CREATED:20241114T112912Z
LAST-MODIFIED:20241114T112912Z
UID:51023-1734566400-1734652799@pebblebrookschool.org.uk
SUMMARY:Staff Pantomime
DESCRIPTION:
URL:https://pebblebrookschool.org.uk/event/staff-pantomime/
END:VEVENT
BEGIN:VEVENT
DTSTART;TZID=Europe/London:20241218T140000
DTEND;TZID=Europe/London:20241218T150000
DTSTAMP:20260424T113624
CREATED:20241108T081211Z
LAST-MODIFIED:20241114T112431Z
UID:50970-1734530400-1734534000@pebblebrookschool.org.uk
SUMMARY:Electric Umbrella Live Performance
DESCRIPTION:
URL:https://pebblebrookschool.org.uk/event/electric-umbrella-live-performance/
END:VEVENT
BEGIN:VEVENT
DTSTART;VALUE=DATE:20241218
DTEND;VALUE=DATE:20241219
DTSTAMP:20260424T113624
CREATED:20241108T074836Z
LAST-MODIFIED:20241108T074836Z
UID:50966-1734480000-1734566399@pebblebrookschool.org.uk
SUMMARY:School Christmas Lunch
DESCRIPTION:
URL:https://pebblebrookschool.org.uk/event/school-christmas-lunch/
END:VEVENT
BEGIN:VEVENT
DTSTART;VALUE=DATE:20241216
DTEND;VALUE=DATE:20241217
DTSTAMP:20260424T113624
CREATED:20241108T081309Z
LAST-MODIFIED:20241108T081309Z
UID:50972-1734307200-1734393599@pebblebrookschool.org.uk
SUMMARY:FED Christmas Lunch
DESCRIPTION:
URL:https://pebblebrookschool.org.uk/event/fed-christmas-lunch-2/
END:VEVENT
BEGIN:VEVENT
DTSTART;TZID=Europe/London:20241213T011500
DTEND;TZID=Europe/London:20241213T150000
DTSTAMP:20260424T113624
CREATED:20241114T112744Z
LAST-MODIFIED:20241114T112744Z
UID:51021-1734052500-1734102000@pebblebrookschool.org.uk
SUMMARY:Pupil Disco
DESCRIPTION:
URL:https://pebblebrookschool.org.uk/event/pupil-disco/
END:VEVENT
BEGIN:VEVENT
DTSTART;TZID=Europe/London:20241212T093000
DTEND;TZID=Europe/London:20241212T120000
DTSTAMP:20260424T113624
CREATED:20241114T112612Z
LAST-MODIFIED:20241115T095655Z
UID:51019-1733995800-1734004800@pebblebrookschool.org.uk
SUMMARY:Christmas Performance
DESCRIPTION:
URL:https://pebblebrookschool.org.uk/event/christmas-performance-2/
LOCATION:Southcourt Baptist Church\, HP21 8HW
END:VEVENT
BEGIN:VEVENT
DTSTART;VALUE=DATE:20241211
DTEND;VALUE=DATE:20241212
DTSTAMP:20260424T113624
CREATED:20241108T075109Z
LAST-MODIFIED:20241108T075109Z
UID:50968-1733875200-1733961599@pebblebrookschool.org.uk
SUMMARY:Year 7 Peter Pan Pantomime
DESCRIPTION:
URL:https://pebblebrookschool.org.uk/event/year-7-peter-pan-pantomime/
END:VEVENT
BEGIN:VEVENT
DTSTART;TZID=Europe/London:20241206T100000
DTEND;TZID=Europe/London:20241206T120000
DTSTAMP:20260424T113624
CREATED:20241108T074715Z
LAST-MODIFIED:20241114T112239Z
UID:50964-1733479200-1733486400@pebblebrookschool.org.uk
SUMMARY:Christmas Fayre
DESCRIPTION:
URL:https://pebblebrookschool.org.uk/event/christmas-fayre-2/
END:VEVENT
END:VCALENDAR